BEGIN:VCALENDAR
VERSION:2.0
PRODID:-//stceciliademotte.org//eCatholic//EN
X-WR-TIMEZONE:LocalTZ
BEGIN:VTIMEZONE
TZID:LocalTZ
X-LIC-LOCATION:LocalTZ
BEGIN:DAYLIGHT
TZOFFSETFROM:-0600
TZOFFSETTO:-0500
TZNAME:LocalTZ
DTSTART:19700308T020000
RRULE:FREQ=YEARLY;BYMONTH=3;BYDAY=2SU
END:DAYLIGHT
BEGIN:STANDARD
TZOFFSETFROM:-0500
TZOFFSETTO:-0600
TZNAME:LocalTZ
DTSTART:19701101T020000
RRULE:FREQ=YEARLY;BYMONTH=11;BYDAY=1SU
END:STANDARD
END:VTIMEZONE
BEGIN:VEVENT
UID:2089342@stceciliademotte.org
DTSTAMP:20260419T121839Z
DTSTART:20260425T080000
DTEND:20260425T103000
RRULE:FREQ=WEEKLY;BYDAY=SA
SUMMARY:Sorrowful Mother Food Pantry
DESCRIPTION:Food items for qualifying families
END:VEVENT
BEGIN:VEVENT
UID:2236945@stceciliademotte.org
DTSTAMP:20260419T121839Z
DTSTART:20260507T180000
DTEND:20260507T190000
RRULE:FREQ=MONTHLY;BYDAY=TH;BYSETPOS=1
EXDATE:20231207T180000,20240905T180000
SUMMARY:Knights of Columbus Meeting
DESCRIPTION:Knights of Columbus meet at St. Cecilia in the Social Hall
END:VEVENT
BEGIN:VEVENT
UID:2263813@stceciliademotte.org
DTSTAMP:20260419T121839Z
DTSTART:20260520T183000
DTEND:20260520T200000
RRULE:FREQ=MONTHLY;BYDAY=WE;BYSETPOS=3
SUMMARY:LA PRÁCTICA DEL CORO EN ESPAÑOL EN SANTA CECILIA
DESCRIPTION:​​​​​​Día de Práctica: Cada miércoles Horario: 6:30PM - 8:00PM
  Si hay alguna persona está interesada en unirse al coro en español de San
 ta Cecilia\, por favor contactar a Goyo o Argelia Domínguez.
END:VEVENT
BEGIN:VEVENT
UID:2375311@stceciliademotte.org
DTSTAMP:20260419T121839Z
DTSTART:20260505T190000
DTEND:20260505T200000
RRULE:FREQ=MONTHLY;BYDAY=TU;BYSETPOS=1
EXDATE:20240806T190000
SUMMARY:Sorrowful Mother Holy Name Men's Sodality Meeting
DESCRIPTION:Membership is open to all men of the parish. Join to become ac
 tive in planning and hosting events and grow in faith with your fellow par
 ishioners.
END:VEVENT
BEGIN:VEVENT
UID:2375315@stceciliademotte.org
DTSTAMP:20260419T121839Z
DTSTART:20260506T170000
DTEND:20260506T180000
RRULE:FREQ=MONTHLY;BYDAY=WE;BYSETPOS=1
SUMMARY:Prayer Blanket Ministry Meeting
DESCRIPTION:Our mission\, purpose\, and goal are to bring comfort and enco
 uragement to those in need and to be a reminder of the mercy\, peace\, and
  compassion of God's all-embracing love. Don't know how to crochet? No pro
 blem! We would love to teach you. We also accept quilted\, knitted\, and e
 ven fleece blankets.
END:VEVENT
BEGIN:VEVENT
UID:2375321@stceciliademotte.org
DTSTAMP:20260419T121839Z
DTSTART:20260520T170000
DTEND:20260520T180000
RRULE:FREQ=MONTHLY;BYDAY=WE;BYSETPOS=3
SUMMARY:Prayer Blanket Ministry Meeting
DESCRIPTION:Our mission\, purpose\, and goal are to bring comfort and enco
 uragement to those in need and to be a reminder of the mercy\, peace\, and
  compassion of God's all-embracing love.
END:VEVENT
BEGIN:VEVENT
UID:2375322@stceciliademotte.org
DTSTAMP:20260419T121839Z
DTSTART:20260513T183000
DTEND:20260513T193000
RRULE:FREQ=MONTHLY;BYDAY=WE;BYSETPOS=2
EXDATE:20241225T183000,20250312T183000,20250409T183000
SUMMARY:Sorrowful Mother Altar Rosary Sodality (ARS) Meeting
DESCRIPTION:Help enrich the pastorate community by participating in the So
 rrowful Mother Altar Rosary Sodality!
END:VEVENT
BEGIN:VEVENT
UID:2429022@stceciliademotte.org
DTSTAMP:20260419T121839Z
DTSTART:20260421T190000
DTEND:20260421T193000
RRULE:FREQ=WEEKLY;BYDAY=TU
EXDATE:20240604T190000,20240702T190000,20241210T190000,20241224T190000,202
 41231T190000,20250218T190000,20250225T190000,20250415T190000,20250603T1900
 00
SUMMARY:Weekday Mass at St. Cecilia - Bilingual
DESCRIPTION:Weekday Mass at St. Cecilia. This Mass is bilingual and includ
 es readings in Spanish and a homily in both Spanish and English. Weekday B
 ilingual Mass at St. Cecilia every Tuesday- 7:00 - 7:30pm. Confessions 7:3
 0 - 8:00pm
END:VEVENT
BEGIN:VEVENT
UID:2429023@stceciliademotte.org
DTSTAMP:20260419T121839Z
DTSTART:20260422T083000
DTEND:20260422T090000
RRULE:FREQ=WEEKLY;BYDAY=WE
EXDATE:20240605T083000,20240703T083000,20241225T083000,20250101T083000,202
 50219T083000,20250226T083000,20250305T083000,20250604T083000
SUMMARY:Weekday Mass at St. Augusta
DESCRIPTION:Weekday Mass at St. Augusta every Wednesday - 8:30 - 9:00am. C
 onfessions 9:00 - 9:30am
END:VEVENT
BEGIN:VEVENT
UID:2429025@stceciliademotte.org
DTSTAMP:20260419T121839Z
DTSTART:20260423T083000
DTEND:20260423T090000
RRULE:FREQ=WEEKLY;BYDAY=TH
EXDATE:20240606T083000,20240613T083000,20240704T083000,20240815T083000,202
 41212T083000,20241226T083000,20250220T083000,20250417T083000,20250605T0830
 00
SUMMARY:Weekday Mass at Sorrowful Mother
DESCRIPTION:Weekday Mass at Sorrowful Mother every Thursday. Mass: 8:30 - 
 9:00am\, Confessions: 9:00 - 9:30am
END:VEVENT
BEGIN:VEVENT
UID:2429029@stceciliademotte.org
DTSTAMP:20260419T121839Z
DTSTART:20260424T083000
DTEND:20260424T090000
RRULE:FREQ=WEEKLY;BYDAY=FR
EXDATE:20240614T083000,20240621T083000,20240705T083000,20241227T083000,202
 50221T083000,20250418T083000,20250613T083000,20250808T083000,20250815T0830
 00
SUMMARY:Weekday Mass at St. Cecilia
DESCRIPTION:Weekday English Mass at St. Cecilia every Friday- 8:30 - 9:00a
 m. Confessions 9:00 - 9:30am
END:VEVENT
BEGIN:VEVENT
UID:2429031@stceciliademotte.org
DTSTAMP:20260419T121839Z
DTSTART:20260425T160000
DTEND:20260425T170000
RRULE:FREQ=WEEKLY;BYDAY=SA
EXDATE:20250412T160000,20250419T160000
SUMMARY:Saturday Vigil Mass at St. Cecilia
DESCRIPTION:Saturday Vigil Mass at St. Cecilia: 4:00 - 5:00pm every Saturd
 ay
END:VEVENT
BEGIN:VEVENT
UID:2429033@stceciliademotte.org
DTSTAMP:20260419T121839Z
DTSTART:20260419T080000
DTEND:20260419T090000
RRULE:FREQ=WEEKLY;BYDAY=SU
EXDATE:20250413T080000,20250420T080000
SUMMARY:Sunday Mass at Sorrowful Mother
DESCRIPTION:Sunday Mass at Sorrowful Mother: 8:00am - 9:00am every Sunday 
 morning.
END:VEVENT
BEGIN:VEVENT
UID:2429034@stceciliademotte.org
DTSTAMP:20260419T121839Z
DTSTART:20260419T100000
DTEND:20260419T110000
RRULE:FREQ=WEEKLY;BYDAY=SU
EXDATE:20250413T100000,20250420T100000
SUMMARY:Sunday Mass at St. Cecilia - English
DESCRIPTION:Sunday English Mass at St. Cecilia - 10:00 - 11:00am every Sun
 day.
END:VEVENT
BEGIN:VEVENT
UID:2429035@stceciliademotte.org
DTSTAMP:20260419T121839Z
DTSTART:20260419T121500
DTEND:20260419T131500
RRULE:FREQ=WEEKLY;BYDAY=SU
EXDATE:20250803T121500
SUMMARY:Sunday Mass at St. Cecilia - Spanish
DESCRIPTION:Spanish Sunday Mass at St. Cecilia - 12:15 - 1:15pm. All parts
  of the Mass are in Spanish.
END:VEVENT
BEGIN:VEVENT
UID:2429085@stceciliademotte.org
DTSTAMP:20260419T121839Z
DTSTART:20260421T190000
DTEND:20260421T193000
RRULE:FREQ=WEEKLY;BYDAY=TU
EXDATE:20240604T190000
SUMMARY:Misa entre semana en Santa Cecilia - Bilingüe
DESCRIPTION:Todos los martes de 7:00 a 7:30 en Santa Cecilia. Confesiones 
 después de la Misa.
END:VEVENT
BEGIN:VEVENT
UID:2429088@stceciliademotte.org
DTSTAMP:20260419T121839Z
DTSTART:20260419T121500
DTEND:20260419T131500
RRULE:FREQ=WEEKLY;BYDAY=SU
SUMMARY:Misa dominical en Santa Cecilia en español
END:VEVENT
BEGIN:VEVENT
UID:2539312@stceciliademotte.org
DTSTAMP:20260419T121839Z
DTSTART:20260513T170000
DTEND:20260513T180000
RRULE:FREQ=MONTHLY;BYDAY=WE;BYSETPOS=2
EXDATE:20241211T170000
SUMMARY:St. Cecilia Ladies Sodality Meeting
DESCRIPTION:This wonderful group is dedicated to supporting our parish and
  the wider community through prayer\, service\, and fellowship. All female
  parishioners over 18 are automatically members of the Ladies Sodality.
END:VEVENT
BEGIN:VEVENT
UID:2568409@stceciliademotte.org
DTSTAMP:20260419T121839Z
DTSTART:20260419T090000
DTEND:20260419T100000
RRULE:FREQ=WEEKLY;BYDAY=SU
EXDATE:20250216T090000,20250629T090000,20250706T090000,20250713T090000,202
 50720T090000,20250727T090000,20250803T090000,20250803T090000,20250803T0900
 00,20250810T090000,20250817T090000,20250824T090000,20250831T090000
SUMMARY:Faith Formation - Sorrowful Mother
END:VEVENT
BEGIN:VEVENT
UID:2568411@stceciliademotte.org
DTSTAMP:20260419T121839Z
DTSTART:20260419T110000
DTEND:20260419T120000
RRULE:FREQ=WEEKLY;BYDAY=SU
EXDATE:20250216T110000,20250629T110000,20250706T110000,20250713T110000,202
 50720T110000,20250727T110000,20250803T110000,20250810T110000,20250817T1100
 00,20250831T110000
SUMMARY:Faith Formation - St. Cecilia
END:VEVENT
BEGIN:VEVENT
UID:2847157@stceciliademotte.org
DTSTAMP:20260419T121839Z
DTSTART:20260420T200000
DTEND:20260420T203000
RRULE:FREQ=WEEKLY;BYDAY=MO
EXDATE:20250728T200000
SUMMARY:Marian Consecration
DESCRIPTION:Marian Consecration - brief ceremony following the Mass of the
  Assumption of the Blessed Virgen Mary
END:VEVENT
BEGIN:VEVENT
UID:2847172@stceciliademotte.org
DTSTAMP:20260419T121839Z
DTSTART:20260508T173000
DTEND:20260508T193000
RRULE:FREQ=MONTHLY;BYDAY=FR;BYSETPOS=2
SUMMARY:Helpings of Hope Pizza Party
DESCRIPTION:Pizza Party & Games for those who completed the Helpings of Ho
 pe Summer Reading Program
END:VEVENT
END:VCALENDAR
